BEGIN:VCALENDAR
VERSION:2.0
CALSCALE:GREGORIAN
METHOD:PUBLISH
X-WR-TIMEZONE:Australia/Sydney
BEGIN:VTIMEZONE
TZID:Australia/Sydney
BEGIN:STANDARD
TZNAME:AEST
DTSTART:19700101T000000
TZOFFSETFROM:+1100
TZOFFSETTO:+1000
END:STANDARD
END:VTIMEZONE
BEGIN:VEVENT
DTSTART;TZID=Australia/Sydney:20150522T190000
DTEND;TZID=Australia/Sydney:20150522T213000
DTSTAMP:20260425T023126
UID:138
SUMMARY:Boomtec Disco - 7pm
DESCRIPTION:The second Boomtec for the year is Friday 22 May.
&amp;nbsp;
Prepurchae your tickets at the school office for 10.00 (gets priority entry).&amp;nbsp; Tickets can be used for any Boomtec throughout 2015.
&amp;nbsp;
Where:&amp;nbsp;&amp;nbsp; Norwood Secondary College Hall, Byron Road, North Ringwood
&amp;nbsp;
This Disco is for Level 4 students only and has been run for a number of year now. &amp;nbsp; The Boomtec committee send out invitations to all schools in the Maroondah region, so at any one disco we can have up to 400 children attend.&amp;nbsp; There is a canteen which sells a range of chips, drinks and glow products.&amp;nbsp; We have 3 raffles during the night with prizes ranginf from canteen vouchers, free entry to Boomtec and movie passes.&amp;nbsp; We have a DJ Ian Wood who also runs all our school discos &amp;amp; graduation. His children also attend Tinternvale.
&amp;nbsp;
Boomtec is not only a fun night for the kids but we as a commitee strongly believe it helps with the transitiion to secondary school.&amp;nbsp; For 2 years the Level 4 students get to socialise with children their own age from different schools.&amp;nbsp; Once they start secondary college, although they may not know children personally, they will see familiar faces which can make the transition a little less scary.
&amp;nbsp;
&amp;nbsp;
Also Boomtec relies heavily on the support of volunteers.&amp;nbsp; If we don&#039;t get a minimum of 20 from Tinternvale we have to cap at less than 400 or at worst cancel Boomtec all together.&amp;nbsp; Should you with to volunteer please put your name down at the office.&amp;nbsp; All Volunteers must be over the age of 18 &amp;amp; hold a current Working with Children Check.
SEQUENCE:0
STATUS:CONFIRMED
TRANSP:OPAQUE
END:VEVENT
END:VCALENDAR